BEGIN:VCALENDAR
VERSION:2.0
PRODID:icalendar-ruby
CALSCALE:GREGORIAN
METHOD:PUBLISH
BEGIN:VEVENT
DTSTAMP:20260425T140848Z
UID:212-586916@stchristopherssyndal.com.au
DTSTART:20260512T003000Z
DTEND:20260512T023000Z
CLASS:PUBLIC
CREATED:20260425T174954
DESCRIPTION:From Parishioners to Disciples. \nA Faith Formation program. Fo
 r those who seek a true life of discipleship in Christ\, beyond the pews!\
 nBy: Fred Choy\nDuration: Tuesday 10:30am - 12:30pm\nCost: Approx $10/pers
 on \n⁕12 participants max⁕\nREGISTRATION MANDATORY \nPlease register b
 y 10 May. \nPlease send your name and contact number or any inquiries by E
 MAIL (discipleship@stchristopherssyndal.com.au) or via TEXT ONLY (0431 950
  090).\nSessions: \nMay - 12th\, 19th &amp\; 26th\nJune - 2nd\, 9th\, 16th
  &amp\; 23rd\n[break]\nJuly - 28th\nAugust - 4th\, 11th &amp\; 18th
LAST-MODIFIED:20260425T174954
LOCATION:St. Christopher’s Parish | Presbytery
SUMMARY:Beyond the Pews
URL;VALUE=URI:https://stchristopherssyndal.com.au/events/beyond-the-pews/20
 26-05-12
ATTACH;FILENAME=Develop-Community-Transforming-Mission-1030x541.webp;FMTTYP
 E=image/webp:https://dq5pwpg1q8ru0.cloudfront.net/2025/08/16/03/21/19/e1b7
 f8bf-fa05-46ad-904b-a43bf7f12557/Develop-Community-Transforming-Mission-10
 30x541.webp
END:VEVENT
END:VCALENDAR
