BEGIN:VCALENDAR
VERSION:2.0
PRODID:icalendar-ruby
CALSCALE:GREGORIAN
METHOD:PUBLISH
BEGIN:VEVENT
DTSTAMP:20260423T095812Z
UID:241-585290@stchristopherssyndal.com.au
DTSTART;VALUE=DATE:20260820
DTEND;VALUE=DATE:20260820
CLASS:PUBLIC
CREATED:20260422T201333
DESCRIPTION:Join us for an in-depth exploration of the Book of James\, by J
 eff Cavins and facilitated by Gwen O'Brien.\nWeekly Schedule\nThursdays a
 t 7:30pm - St Christopher's Parish Cenacle Room (in-person)\nSaturdays at 
 10:00am to 11:30am - Online via Zoom (Repeat Session)\nZoom Access Detail
 s\nhttps://us02web.zoom.us/j/81708433156? pwd=aTYwN0N1cTVQZzJlU25hWkZ6aDNo
 QT09 \nLogin code: 08433156\nPasscode: 803022
LAST-MODIFIED:20260422T201333
LOCATION:St Christopher's Catholic Church | Cenacle Room
SUMMARY:Bible Study: Book of James
URL;VALUE=URI:https://stchristopherssyndal.com.au/events/bible-study-book-o
 f-james/2026-08-20
ATTACH;FILENAME=pexels-bible-1868359_1920.webp;FMTTYPE=image/webp:https://d
 q5pwpg1q8ru0.cloudfront.net/2026/04/14/07/26/38/7b30ea0c-4c89-4cd0-ac32-94
 6c9ba157c9/pexels-bible-1868359_1920.webp
END:VEVENT
END:VCALENDAR
