BEGIN:VCALENDAR
VERSION:2.0
PRODID:icalendar-ruby
CALSCALE:GREGORIAN
METHOD:PUBLISH
BEGIN:VEVENT
DTSTAMP:20260425T115313Z
UID:77-586680@stchristopherssyndal.com.au
DTSTART:20260501T093000Z
DTEND:20260501T103000Z
CLASS:PUBLIC
CREATED:20260425T171014
DESCRIPTION:Come spend and hour with me ...\nJesus invites us to spend a sh
 ort while in deep adoration and prayer with him in the Real Presence.
LAST-MODIFIED:20260425T171014
LOCATION:St Christopher's Catholic Church
SUMMARY:Guided Adoration
URL;VALUE=URI:https://stchristopherssyndal.com.au/events/guided-adoration/2
 026-05-01
ATTACH;FILENAME=Eucharistic.jpg;FMTTYPE=image/jpeg:https://dq5pwpg1q8ru0.cl
 oudfront.net/2024/07/26/06/55/20/eadc112c-d7c5-4104-9c6b-08815a212c59/Euch
 aristic.jpg
END:VEVENT
END:VCALENDAR
