BEGIN:VCALENDAR
VERSION:2.0
PRODID:icalendar-ruby
CALSCALE:GREGORIAN
METHOD:PUBLISH
BEGIN:VEVENT
DTSTAMP:20260420T031428Z
UID:199-584068@stchristopherssyndal.com.au
DTSTART:20260503T050000Z
DTEND:20260503T060000Z
CLASS:PUBLIC
CREATED:20260419T114826
DESCRIPTION:\n\n\n\n\n\n\nJoin us for a transformative Healing Mass with up
 lifting praise and worship followed by Eucharistic Adoration\, inviting Go
 d's mercy and healing.\nEvery first Sunday of the month.\n\n\n\n\n\n\n
LAST-MODIFIED:20260419T114826
LOCATION:St Christopher's Catholic Church
SUMMARY:Healing Mass
URL;VALUE=URI:https://stchristopherssyndal.com.au/events/healing-mass--199/
 2026-05-03
ATTACH;FILENAME=Healing Mass.jpg;FMTTYPE=image/jpeg:https://dq5pwpg1q8ru0.c
 loudfront.net/2025/04/26/10/49/05/c19f1b4a-636e-4eeb-a37e-1a6048f35d5a/Hea
 ling%20Mass.jpg
END:VEVENT
END:VCALENDAR
